Package: mobileRNA Version: 1.0.15 Command: E:\biocbuild\bbs-3.19-bioc\R\bin\R.exe CMD INSTALL mobileRNA StartedAt: 2024-10-16 16:52:54 -0400 (Wed, 16 Oct 2024) EndedAt: 2024-10-16 16:53:48 -0400 (Wed, 16 Oct 2024) EllapsedTime: 54.0 seconds RetCode: 0 Status: OK