Package: mosbi Version: 1.10.0 Maintainer: Tim Daniel Rose MaintainerEmail: tim.rose at wzw.tum.de git_url: https://git.bioconductor.org/packages/mosbi git_branch: RELEASE_3_19 git_last_commit: b968052 git_last_commit_date: 2024-04-30 11:38:40 -0400 (Tue, 30 Apr 2024)