Package: mosbi Version: 1.10.0 Command: /Library/Frameworks/R.framework/Resources/bin/R CMD INSTALL mosbi StartedAt: 2024-10-16 16:34:12 -0400 (Wed, 16 Oct 2024) EndedAt: 2024-10-16 16:36:40 -0400 (Wed, 16 Oct 2024) EllapsedTime: 147.4 seconds RetCode: 0 Status: OK