Package: mosbi Version: 1.10.0 Command: /home/biocbuild/bbs-3.19-bioc/R/bin/R CMD build --keep-empty-dirs --no-resave-data mosbi StartedAt: 2024-10-16 19:36:03 -0400 (Wed, 16 Oct 2024) EndedAt: 2024-10-16 19:37:34 -0400 (Wed, 16 Oct 2024) EllapsedTime: 91.2 seconds RetCode: 0 Status: OK PackageFile: mosbi_1.10.0.tar.gz PackageFileSize: 2.293 MiB