Package: mosbi Version: 1.10.0 Command: /home/biocbuild/bbs-3.19-bioc/R/bin/R CMD INSTALL mosbi StartedAt: 2024-10-16 16:37:13 -0400 (Wed, 16 Oct 2024) EndedAt: 2024-10-16 16:38:26 -0400 (Wed, 16 Oct 2024) EllapsedTime: 72.5 seconds RetCode: 0 Status: OK