Package: mosbi Version: 1.10.0 Command: F:\biocbuild\bbs-3.19-bioc\R\bin\R.exe CMD INSTALL mosbi StartedAt: 2024-06-26 16:42:15 -0400 (Wed, 26 Jun 2024) EndedAt: 2024-06-26 16:45:02 -0400 (Wed, 26 Jun 2024) EllapsedTime: 166.2 seconds RetCode: 0 Status: OK