Package: motifStack Version: 1.48.0 Command: /Library/Frameworks/R.framework/Resources/bin/R CMD build --keep-empty-dirs --no-resave-data motifStack StartedAt: 2024-10-17 05:03:55 -0400 (Thu, 17 Oct 2024) EndedAt: 2024-10-17 05:06:32 -0400 (Thu, 17 Oct 2024) EllapsedTime: 156.7 seconds RetCode: 0 Status: OK PackageFile: motifStack_1.48.0.tar.gz PackageFileSize: 3.893 MiB