Package: motifStack Version: 1.48.0 Command: E:\biocbuild\bbs-3.19-bioc\R\bin\R.exe CMD check --no-multiarch --install=check:motifStack.install-out.txt --library=E:\biocbuild\bbs-3.19-bioc\R\library --no-vignettes --timings motifStack_1.48.0.tar.gz StartedAt: 2024-10-17 03:35:38 -0400 (Thu, 17 Oct 2024) EndedAt: 2024-10-17 03:41:54 -0400 (Thu, 17 Oct 2024) EllapsedTime: 376.9 seconds RetCode: 0 Status: OK CheckDir: motifStack.Rcheck Warnings: 0