Package: motifmatchr Version: 1.26.0 Command: /home/biocbuild/bbs-3.19-bioc/R/bin/R CMD build --keep-empty-dirs --no-resave-data motifmatchr StartedAt: 2024-10-16 19:36:51 -0400 (Wed, 16 Oct 2024) EndedAt: 2024-10-16 19:38:46 -0400 (Wed, 16 Oct 2024) EllapsedTime: 114.2 seconds RetCode: 0 Status: OK PackageFile: motifmatchr_1.26.0.tar.gz PackageFileSize: 52.11 KiB