Package: motifmatchr Version: 1.26.0 Command: /home/biocbuild/bbs-3.19-bioc/R/bin/R CMD check --install=check:motifmatchr.install-out.txt --library=/home/biocbuild/bbs-3.19-bioc/R/site-library --timings motifmatchr_1.26.0.tar.gz StartedAt: 2024-10-17 02:43:03 -0400 (Thu, 17 Oct 2024) EndedAt: 2024-10-17 02:48:59 -0400 (Thu, 17 Oct 2024) EllapsedTime: 355.7 seconds RetCode: 0 Status: OK CheckDir: motifmatchr.Rcheck Warnings: 0