Package: msPurity Version: 1.30.1 Command: /Library/Frameworks/R.framework/Resources/bin/R CMD check --install=check:msPurity.install-out.txt --library=/Library/Frameworks/R.framework/Resources/library --no-vignettes --timings msPurity_1.30.1.tar.gz StartedAt: 2024-10-18 05:10:59 -0400 (Fri, 18 Oct 2024) EndedAt: 2024-10-18 05:25:05 -0400 (Fri, 18 Oct 2024) EllapsedTime: 845.9 seconds RetCode: 0 Status: OK CheckDir: msPurity.Rcheck Warnings: 0