Package: msPurity Version: 1.30.1 Command: /Library/Frameworks/R.framework/Resources/bin/R CMD build --keep-empty-dirs --no-resave-data msPurity StartedAt: 2024-06-10 01:15:52 -0400 (Mon, 10 Jun 2024) EndedAt: 2024-06-10 01:27:50 -0400 (Mon, 10 Jun 2024) EllapsedTime: 718.4 seconds RetCode: 0 Status: OK PackageFile: msPurity_1.30.1.tar.gz PackageFileSize: 11.29 MiB