Package: msPurity Version: 1.30.0 Command: /home/biocbuild/R/R-beta-2024-04-15_r86425/bin/R CMD check --install=check:msPurity.install-out.txt --library=/home/biocbuild/R/R-beta-2024-04-15_r86425/site-library --no-vignettes --timings msPurity_1.30.0.tar.gz StartedAt: 2024-05-09 09:48:55 -0000 (Thu, 09 May 2024) EndedAt: 2024-05-09 10:05:24 -0000 (Thu, 09 May 2024) EllapsedTime: 988.9 seconds RetCode: 1 Status: ERROR CheckDir: msPurity.Rcheck Warnings: NA