Package: msPurity Version: 1.30.1 Command: /Library/Frameworks/R.framework/Resources/bin/R CMD INSTALL msPurity StartedAt: 2024-06-09 15:19:37 -0400 (Sun, 09 Jun 2024) EndedAt: 2024-06-09 15:19:54 -0400 (Sun, 09 Jun 2024) EllapsedTime: 17.0 seconds RetCode: 0 Status: OK