Package: msPurity Version: 1.30.1 Command: /home/biocbuild/bbs-3.19-bioc/R/bin/R CMD build --keep-empty-dirs --no-resave-data msPurity StartedAt: 2024-10-16 19:40:52 -0400 (Wed, 16 Oct 2024) EndedAt: 2024-10-16 19:48:37 -0400 (Wed, 16 Oct 2024) EllapsedTime: 465.0 seconds RetCode: 0 Status: OK PackageFile: msPurity_1.30.1.tar.gz PackageFileSize: 11.28 MiB