Package: msgbsR Version: 1.28.0 Command: /home/biocbuild/R/R-beta-2024-04-15_r86425/bin/R CMD build --keep-empty-dirs --no-resave-data msgbsR StartedAt: 2024-05-09 01:55:53 -0000 (Thu, 09 May 2024) EndedAt: 2024-05-09 01:57:56 -0000 (Thu, 09 May 2024) EllapsedTime: 122.2 seconds RetCode: 0 Status: OK PackageFile: msgbsR_1.28.0.tar.gz PackageFileSize: 15.25 MiB