Package: msgbsR Version: 1.28.0 Command: chmod a+r msgbsR -R && F:\biocbuild\bbs-3.19-bioc\R\bin\R.exe CMD build --keep-empty-dirs --no-resave-data msgbsR StartedAt: 2024-06-26 20:17:56 -0400 (Wed, 26 Jun 2024) EndedAt: 2024-06-26 20:17:59 -0400 (Wed, 26 Jun 2024) EllapsedTime: 3.1 seconds RetCode: 1 Status: ERROR PackageFile: None PackageFileSize: NA