Package: msgbsR Version: 1.28.0 Command: F:\biocbuild\bbs-3.19-bioc\R\bin\R.exe CMD INSTALL msgbsR StartedAt: 2024-06-26 16:25:53 -0400 (Wed, 26 Jun 2024) EndedAt: 2024-06-26 16:25:55 -0400 (Wed, 26 Jun 2024) EllapsedTime: 2.4 seconds RetCode: 1 Status: ERROR