Package: mslp Version: 1.6.0 Command: E:\biocbuild\bbs-3.19-bioc\R\bin\R.exe CMD INSTALL mslp StartedAt: 2024-10-16 16:35:24 -0400 (Wed, 16 Oct 2024) EndedAt: 2024-10-16 16:35:32 -0400 (Wed, 16 Oct 2024) EllapsedTime: 7.9 seconds RetCode: 0 Status: OK