Package: multiGSEA Version: 1.14.0 Command: rm -rf multiGSEA.buildbin-libdir && mkdir multiGSEA.buildbin-libdir && /Users/biocbuild/BBS/utils/build-universal.sh multiGSEA_1.14.0.tar.gz /Library/Frameworks/R.framework/Resources/bin/R multiGSEA.buildbin-libdir StartedAt: 2024-07-02 16:07:13 -0400 (Tue, 02 Jul 2024) EndedAt: 2024-07-02 16:07:27 -0400 (Tue, 02 Jul 2024) EllapsedTime: 14.5 seconds RetCode: 1 Status: ERROR PackageFile: None PackageFileSize: NA