############################################################################## ############################################################################## ### ### Running command: ### ### /Library/Frameworks/R.framework/Resources/bin/R CMD build --keep-empty-dirs --no-resave-data multiGSEA ### ############################################################################## ############################################################################## * checking for file ‘multiGSEA/DESCRIPTION’ ... OK * preparing ‘multiGSEA’: * checking DESCRIPTION meta-information ... OK * installing the package to build vignettes ----------------------------------- ERROR: dependency ‘metaboliteIDmapping’ is not available for package ‘multiGSEA’ * removing ‘/private/tmp/RtmpIhs3PG/Rinstc5b938e4a6eb/multiGSEA’ ----------------------------------- ERROR: package installation failed