Package: multiGSEA Version: 1.14.0 Command: /Library/Frameworks/R.framework/Resources/bin/R CMD INSTALL multiGSEA StartedAt: 2024-10-16 18:10:18 -0400 (Wed, 16 Oct 2024) EndedAt: 2024-10-16 18:10:20 -0400 (Wed, 16 Oct 2024) EllapsedTime: 1.4 seconds RetCode: 1 Status: ERROR