Package: multiGSEA Version: 1.14.0 Command: /Library/Frameworks/R.framework/Resources/bin/R CMD build --keep-empty-dirs --no-resave-data multiGSEA StartedAt: 2024-06-10 01:22:57 -0400 (Mon, 10 Jun 2024) EndedAt: 2024-06-10 02:00:23 -0400 (Mon, 10 Jun 2024) EllapsedTime: 2246.3 seconds RetCode: 0 Status: OK PackageFile: multiGSEA_1.14.0.tar.gz PackageFileSize: 952.5 KiB