Package: multiGSEA Version: 1.14.0 Command: /Library/Frameworks/R.framework/Resources/bin/R CMD check --install=check:multiGSEA.install-out.txt --library=/Library/Frameworks/R.framework/Resources/library --no-vignettes --timings multiGSEA_1.14.0.tar.gz StartedAt: 2024-06-10 23:20:54 -0400 (Mon, 10 Jun 2024) EndedAt: 2024-06-10 23:40:13 -0400 (Mon, 10 Jun 2024) EllapsedTime: 1158.7 seconds RetCode: 0 Status: OK CheckDir: multiGSEA.Rcheck Warnings: 0