Package: multiGSEA Version: 1.14.0 Command: /Library/Frameworks/R.framework/Resources/bin/R CMD INSTALL multiGSEA StartedAt: 2024-06-09 17:05:10 -0400 (Sun, 09 Jun 2024) EndedAt: 2024-06-09 17:07:26 -0400 (Sun, 09 Jun 2024) EllapsedTime: 135.5 seconds RetCode: 0 Status: OK