Package: multiGSEA Version: 1.14.0 Command: /home/biocbuild/R/R-beta-2024-04-15_r86425/bin/R CMD build --keep-empty-dirs --no-resave-data multiGSEA StartedAt: 2024-05-09 02:01:19 -0000 (Thu, 09 May 2024) EndedAt: 2024-05-09 02:29:27 -0000 (Thu, 09 May 2024) EllapsedTime: 1688.5 seconds RetCode: 0 Status: OK PackageFile: multiGSEA_1.14.0.tar.gz PackageFileSize: 1017 KiB