Package: multiGSEA Version: 1.14.0 Command: /home/biocbuild/R/R-beta-2024-04-15_r86425/bin/R CMD INSTALL multiGSEA StartedAt: 2024-05-08 20:53:00 -0000 (Wed, 08 May 2024) EndedAt: 2024-05-08 20:54:43 -0000 (Wed, 08 May 2024) EllapsedTime: 103.2 seconds RetCode: 0 Status: OK