Package: multiGSEA Version: 1.14.0 Command: rm -rf multiGSEA.buildbin-libdir && mkdir multiGSEA.buildbin-libdir && /Users/biocbuild/BBS/utils/build-universal.sh multiGSEA_1.14.0.tar.gz /Library/Frameworks/R.framework/Resources/bin/R multiGSEA.buildbin-libdir StartedAt: 2024-06-10 00:29:08 -0400 (Mon, 10 Jun 2024) EndedAt: 2024-06-10 00:30:58 -0400 (Mon, 10 Jun 2024) EllapsedTime: 110.1 seconds RetCode: 0 Status: OK PackageFile: multiGSEA_1.14.0.tgz PackageFileSize: 981.1 KiB