Package: multiGSEA Version: 1.14.0 Command: /Library/Frameworks/R.framework/Resources/bin/R CMD build --keep-empty-dirs --no-resave-data multiGSEA StartedAt: 2024-06-09 17:28:05 -0400 (Sun, 09 Jun 2024) EndedAt: 2024-06-09 17:53:24 -0400 (Sun, 09 Jun 2024) EllapsedTime: 1518.6 seconds RetCode: 0 Status: OK PackageFile: multiGSEA_1.14.0.tar.gz PackageFileSize: 952.5 KiB