Package: multiGSEA Version: 1.13.0 Command: rm -rf multiGSEA.buildbin-libdir && mkdir multiGSEA.buildbin-libdir && /Users/biocbuild/BBS/utils/build-universal.sh multiGSEA_1.13.0.tar.gz /Library/Frameworks/R.framework/Resources/bin/R multiGSEA.buildbin-libdir StartedAt: 2024-03-02 13:58:33 -0500 (Sat, 02 Mar 2024) EndedAt: 2024-03-02 14:01:06 -0500 (Sat, 02 Mar 2024) EllapsedTime: 152.8 seconds RetCode: 0 Status: OK PackageFile: multiGSEA_1.13.0.tgz PackageFileSize: 980.7 KiB