Package: multiGSEA Version: 1.14.0 Command: /Library/Frameworks/R.framework/Resources/bin/R CMD build --keep-empty-dirs --no-resave-data multiGSEA StartedAt: 2024-10-16 21:27:18 -0400 (Wed, 16 Oct 2024) EndedAt: 2024-10-16 22:07:19 -0400 (Wed, 16 Oct 2024) EllapsedTime: 2400.4 seconds RetCode: None Status: TIMEOUT PackageFile: None PackageFileSize: NA