Package: multiGSEA Version: 1.13.0 Command: /Library/Frameworks/R.framework/Resources/bin/R CMD check --install=check:multiGSEA.install-out.txt --library=/Library/Frameworks/R.framework/Resources/library --no-vignettes --timings multiGSEA_1.13.0.tar.gz StartedAt: 2024-03-02 07:26:32 -0500 (Sat, 02 Mar 2024) EndedAt: 2024-03-02 07:45:12 -0500 (Sat, 02 Mar 2024) EllapsedTime: 1119.8 seconds RetCode: 0 Status: OK CheckDir: multiGSEA.Rcheck Warnings: 0