Package: multiGSEA Version: 1.14.0 Command: chmod a+r multiGSEA -R && F:\biocbuild\bbs-3.19-bioc\R\bin\R.exe CMD build --keep-empty-dirs --no-resave-data multiGSEA StartedAt: 2024-06-26 20:22:13 -0400 (Wed, 26 Jun 2024) EndedAt: 2024-06-26 20:44:08 -0400 (Wed, 26 Jun 2024) EllapsedTime: 1315.0 seconds RetCode: 0 Status: OK PackageFile: multiGSEA_1.14.0.tar.gz PackageFileSize: 952.7 KiB