Package: multiGSEA Version: 1.14.0 Command: F:\biocbuild\bbs-3.19-bioc\R\bin\R.exe CMD check --no-multiarch --install=check:multiGSEA.install-out.txt --library=F:\biocbuild\bbs-3.19-bioc\R\library --no-vignettes --timings multiGSEA_1.14.0.tar.gz StartedAt: 2024-06-27 04:03:12 -0400 (Thu, 27 Jun 2024) EndedAt: 2024-06-27 04:16:55 -0400 (Thu, 27 Jun 2024) EllapsedTime: 822.6 seconds RetCode: 0 Status: OK CheckDir: multiGSEA.Rcheck Warnings: 0