Package: multiGSEA Version: 1.14.0 Command: chmod a+r multiGSEA -R && E:\biocbuild\bbs-3.19-bioc\R\bin\R.exe CMD build --keep-empty-dirs --no-resave-data multiGSEA StartedAt: 2024-10-16 20:36:01 -0400 (Wed, 16 Oct 2024) EndedAt: 2024-10-16 20:59:22 -0400 (Wed, 16 Oct 2024) EllapsedTime: 1401.0 seconds RetCode: 0 Status: OK PackageFile: multiGSEA_1.14.0.tar.gz PackageFileSize: 952.7 KiB