Package: multiOmicsViz Version: 1.28.0 Command: /home/biocbuild/R/R-beta-2024-04-15_r86425/bin/R CMD check --install=check:multiOmicsViz.install-out.txt --library=/home/biocbuild/R/R-beta-2024-04-15_r86425/site-library --no-vignettes --timings multiOmicsViz_1.28.0.tar.gz StartedAt: 2024-05-09 09:54:42 -0000 (Thu, 09 May 2024) EndedAt: 2024-05-09 09:58:36 -0000 (Thu, 09 May 2024) EllapsedTime: 234.4 seconds RetCode: 1 Status: ERROR CheckDir: multiOmicsViz.Rcheck Warnings: NA