Package: multiOmicsViz Version: 1.28.0 Command: /home/biocbuild/bbs-3.19-bioc/R/bin/R CMD build --keep-empty-dirs --no-resave-data multiOmicsViz StartedAt: 2024-10-16 19:43:01 -0400 (Wed, 16 Oct 2024) EndedAt: 2024-10-16 19:43:48 -0400 (Wed, 16 Oct 2024) EllapsedTime: 47.1 seconds RetCode: 0 Status: OK PackageFile: multiOmicsViz_1.28.0.tar.gz PackageFileSize: 2.847 MiB