Package: multiWGCNA Version: 1.2.0 Command: rm -rf multiWGCNA.buildbin-libdir && mkdir multiWGCNA.buildbin-libdir && /Users/biocbuild/BBS/utils/build-universal.sh multiWGCNA_1.2.0.tar.gz /Library/Frameworks/R.framework/Resources/bin/R multiWGCNA.buildbin-libdir StartedAt: 2024-10-18 19:40:35 -0400 (Fri, 18 Oct 2024) EndedAt: 2024-10-18 19:41:19 -0400 (Fri, 18 Oct 2024) EllapsedTime: 44.3 seconds RetCode: 0 Status: OK PackageFile: multiWGCNA_1.2.0.tgz PackageFileSize: 3.831 MiB