Package: multiWGCNA Version: 1.2.0 Command: /Library/Frameworks/R.framework/Resources/bin/R CMD INSTALL multiWGCNA StartedAt: 2024-10-16 17:59:16 -0400 (Wed, 16 Oct 2024) EndedAt: 2024-10-16 17:59:54 -0400 (Wed, 16 Oct 2024) EllapsedTime: 38.2 seconds RetCode: 0 Status: OK