Package: multiWGCNA Version: 1.2.0 Command: /Library/Frameworks/R.framework/Resources/bin/R CMD check --install=check:multiWGCNA.install-out.txt --library=/Library/Frameworks/R.framework/Resources/library --no-vignettes --timings multiWGCNA_1.2.0.tar.gz StartedAt: 2024-06-10 23:25:01 -0400 (Mon, 10 Jun 2024) EndedAt: 2024-06-10 23:42:48 -0400 (Mon, 10 Jun 2024) EllapsedTime: 1067.4 seconds RetCode: 0 Status: OK CheckDir: multiWGCNA.Rcheck Warnings: 0