Package: multiWGCNA Version: 1.2.0 Command: /home/biocbuild/R/R-beta-2024-04-15_r86425/bin/R CMD build --keep-empty-dirs --no-resave-data multiWGCNA StartedAt: 2024-05-09 02:02:01 -0000 (Thu, 09 May 2024) EndedAt: 2024-05-09 02:07:07 -0000 (Thu, 09 May 2024) EllapsedTime: 306.4 seconds RetCode: 0 Status: OK PackageFile: multiWGCNA_1.2.0.tar.gz PackageFileSize: 1.933 MiB