Package: multiWGCNA Version: 1.2.0 Command: /Library/Frameworks/R.framework/Resources/bin/R CMD build --keep-empty-dirs --no-resave-data multiWGCNA StartedAt: 2024-10-16 21:28:29 -0400 (Wed, 16 Oct 2024) EndedAt: 2024-10-16 21:36:32 -0400 (Wed, 16 Oct 2024) EllapsedTime: 482.6 seconds RetCode: 0 Status: OK PackageFile: multiWGCNA_1.2.0.tar.gz PackageFileSize: 3.485 MiB