Package: multiWGCNA Version: 1.2.0 Command: /Library/Frameworks/R.framework/Resources/bin/R CMD check --install=check:multiWGCNA.install-out.txt --library=/Library/Frameworks/R.framework/Resources/library --no-vignettes --timings multiWGCNA_1.2.0.tar.gz StartedAt: 2024-10-17 09:50:02 -0400 (Thu, 17 Oct 2024) EndedAt: 2024-10-17 10:10:48 -0400 (Thu, 17 Oct 2024) EllapsedTime: 1245.9 seconds RetCode: 0 Status: OK CheckDir: multiWGCNA.Rcheck Warnings: 0