Package: multiWGCNA Version: 1.2.0 Command: /Library/Frameworks/R.framework/Resources/bin/R CMD INSTALL multiWGCNA StartedAt: 2024-10-16 16:21:21 -0400 (Wed, 16 Oct 2024) EndedAt: 2024-10-16 16:22:34 -0400 (Wed, 16 Oct 2024) EllapsedTime: 73.2 seconds RetCode: 0 Status: OK