Package: multiWGCNA Version: 1.2.0 Command: /home/biocbuild/bbs-3.19-bioc/R/bin/R CMD build --keep-empty-dirs --no-resave-data multiWGCNA StartedAt: 2024-10-16 19:43:20 -0400 (Wed, 16 Oct 2024) EndedAt: 2024-10-16 19:46:42 -0400 (Wed, 16 Oct 2024) EllapsedTime: 201.5 seconds RetCode: 0 Status: OK PackageFile: multiWGCNA_1.2.0.tar.gz PackageFileSize: 2.864 MiB