Package: multiWGCNA Version: 1.2.0 Command: /home/biocbuild/bbs-3.19-bioc/R/bin/R CMD check --install=check:multiWGCNA.install-out.txt --library=/home/biocbuild/bbs-3.19-bioc/R/site-library --timings multiWGCNA_1.2.0.tar.gz StartedAt: 2024-10-17 02:56:36 -0400 (Thu, 17 Oct 2024) EndedAt: 2024-10-17 03:08:48 -0400 (Thu, 17 Oct 2024) EllapsedTime: 731.7 seconds RetCode: 0 Status: OK CheckDir: multiWGCNA.Rcheck Warnings: 0