Package: multiWGCNA Version: 1.2.0 Command: rm -rf multiWGCNA.buildbin-libdir && mkdir multiWGCNA.buildbin-libdir && F:\biocbuild\bbs-3.19-bioc\R\bin\R.exe CMD INSTALL --build --library=multiWGCNA.buildbin-libdir multiWGCNA_1.2.0.tar.gz StartedAt: 2024-06-27 08:34:31 -0400 (Thu, 27 Jun 2024) EndedAt: 2024-06-27 08:35:22 -0400 (Thu, 27 Jun 2024) EllapsedTime: 51.1 seconds RetCode: 0 Status: OK PackageFile: multiWGCNA_1.2.0.zip PackageFileSize: 2.311 MiB