Package: multiWGCNA Version: 1.2.0 Command: F:\biocbuild\bbs-3.19-bioc\R\bin\R.exe CMD check --no-multiarch --install=check:multiWGCNA.install-out.txt --library=F:\biocbuild\bbs-3.19-bioc\R\library --no-vignettes --timings multiWGCNA_1.2.0.tar.gz StartedAt: 2024-06-27 04:04:34 -0400 (Thu, 27 Jun 2024) EndedAt: 2024-06-27 04:16:28 -0400 (Thu, 27 Jun 2024) EllapsedTime: 713.6 seconds RetCode: 0 Status: OK CheckDir: multiWGCNA.Rcheck Warnings: 0