Package: multicrispr Version: 1.14.0 Maintainer: Aditya Bhagwat MaintainerEmail: aditya.bhagwat at uni-marburg.de git_url: https://git.bioconductor.org/packages/multicrispr git_branch: RELEASE_3_19 git_last_commit: a7f7aef git_last_commit_date: 2024-04-30 11:24:36 -0400 (Tue, 30 Apr 2024)