Package: multicrispr Version: 1.14.0 Command: rm -rf multicrispr.buildbin-libdir && mkdir multicrispr.buildbin-libdir && /Users/biocbuild/BBS/utils/build-universal.sh multicrispr_1.14.0.tar.gz /Library/Frameworks/R.framework/Resources/bin/R multicrispr.buildbin-libdir StartedAt: 2024-10-18 19:39:35 -0400 (Fri, 18 Oct 2024) EndedAt: 2024-10-18 19:40:28 -0400 (Fri, 18 Oct 2024) EllapsedTime: 52.6 seconds RetCode: 0 Status: OK PackageFile: multicrispr_1.14.0.tgz PackageFileSize: 2.745 MiB